BEGIN:VCALENDAR
VERSION:2.0
PRODID:-//Frauengemeinschaft Schänis - ECPv6.15.20//NONSGML v1.0//EN
CALSCALE:GREGORIAN
METHOD:PUBLISH
X-ORIGINAL-URL:http://fgschaenis.ch
X-WR-CALDESC:Veranstaltungen für Frauengemeinschaft Schänis
REFRESH-INTERVAL;VALUE=DURATION:PT1H
X-Robots-Tag:noindex
X-PUBLISHED-TTL:PT1H
BEGIN:VTIMEZONE
TZID:UTC
BEGIN:STANDARD
TZOFFSETFROM:+0000
TZOFFSETTO:+0000
TZNAME:UTC
DTSTART:20250101T000000
END:STANDARD
END:VTIMEZONE
BEGIN:VEVENT
DTSTART;TZID=UTC:20260804T140000
DTEND;TZID=UTC:20260804T160000
DTSTAMP:20260420T024428
CREATED:20260102T111449Z
LAST-MODIFIED:20260102T111449Z
UID:1327-1785852000-1785859200@fgschaenis.ch
SUMMARY:Strickstübli
DESCRIPTION:Gemeinsam und entspannt Stricken im Pfarreisaal Schänis. \nAuskunft: Esther Müller 079 109 61 86
URL:http://fgschaenis.ch/event/strickstuebli-64/
END:VEVENT
BEGIN:VEVENT
DTSTART;TZID=UTC:20260821T180000
DTEND;TZID=UTC:20260821T223000
DTSTAMP:20260420T024428
CREATED:20260102T114606Z
LAST-MODIFIED:20260102T114606Z
UID:1356-1787335200-1787351400@fgschaenis.ch
SUMMARY:Frauenabend
DESCRIPTION:Wir unternehmen etwas – was genau\, wird nicht verraten. \nNur so viel: Es wird gemütlich\, gesellig und sicher nicht langweilig.
URL:http://fgschaenis.ch/event/frauenabend/
END:VEVENT
END:VCALENDAR