BEGIN:VCALENDAR
VERSION:2.0
PRODID:-//Frauengemeinschaft Schänis - ECPv6.15.20//NONSGML v1.0//EN
CALSCALE:GREGORIAN
METHOD:PUBLISH
X-WR-CALNAME:Frauengemeinschaft Schänis
X-ORIGINAL-URL:http://fgschaenis.ch
X-WR-CALDESC:Veranstaltungen für Frauengemeinschaft Schänis
REFRESH-INTERVAL;VALUE=DURATION:PT1H
X-Robots-Tag:noindex
X-PUBLISHED-TTL:PT1H
BEGIN:VTIMEZONE
TZID:UTC
BEGIN:STANDARD
TZOFFSETFROM:+0000
TZOFFSETTO:+0000
TZNAME:UTC
DTSTART:20250101T000000
END:STANDARD
END:VTIMEZONE
BEGIN:VEVENT
DTSTART;TZID=UTC:20260505T140000
DTEND;TZID=UTC:20260505T160000
DTSTAMP:20260419T212100
CREATED:20260102T110913Z
LAST-MODIFIED:20260102T111229Z
UID:1321-1777989600-1777996800@fgschaenis.ch
SUMMARY:Strickstübli
DESCRIPTION:Gemeinsam und entspannt Stricken im Pfarreisaal Schänis. \nAuskunft: Esther Müller 079 109 61 86
URL:http://fgschaenis.ch/event/strickstuebli-62/
END:VEVENT
BEGIN:VEVENT
DTSTART;TZID=UTC:20260505T193000
DTEND;TZID=UTC:20260505T210000
DTSTAMP:20260419T212100
CREATED:20260102T113451Z
LAST-MODIFIED:20260110T112144Z
UID:1348-1778009400-1778014800@fgschaenis.ch
SUMMARY:Regionale Maiandacht
DESCRIPTION:Regionale Maiandacht in der Pfarrkirche Schänis. \nACHTUNG im JAHRESPROGRAMM steht 19:00 Uhr\, der Anlass findet aber um 19:30 Uhr statt. \n 
URL:http://fgschaenis.ch/event/regionale-maiandacht-3/
END:VEVENT
BEGIN:VEVENT
DTSTART;TZID=UTC:20260529T095000
DTEND;TZID=UTC:20260529T193000
DTSTAMP:20260419T212100
CREATED:20260102T113835Z
LAST-MODIFIED:20260102T114038Z
UID:1350-1780048200-1780083000@fgschaenis.ch
SUMMARY:Schweizer Paraplegiker-Zentrum Nottwil
DESCRIPTION:Tagesausflug ans Schweizer Paraplegiker-Zentrum in Notwil \nAm Nachmittag besichtigen wir das Paraplegiker-Zentrum und nehmen an einer rund einstündigen Führung teil. \nAnschliessend absolvieren wir einen Rollstuhl-Parcours. \nDas Mittagessen nehmen wir im Selbstbedienungsrestaurant „Centro“ auf eigene Kosten ein. \nKosten Busfahrt und Führung CHF 55.- \nAnmeldung: Ursi bis 17\,05\,2026   Tel. 079 382 69 90
URL:http://fgschaenis.ch/event/schweizer-paraplegiker-zentrum-nottwil/
END:VEVENT
END:VCALENDAR