BEGIN:VCALENDAR
VERSION:2.0
PRODID:-//Frauengemeinschaft Schänis - ECPv6.15.20//NONSGML v1.0//EN
CALSCALE:GREGORIAN
METHOD:PUBLISH
X-WR-CALNAME:Frauengemeinschaft Schänis
X-ORIGINAL-URL:http://fgschaenis.ch
X-WR-CALDESC:Veranstaltungen für Frauengemeinschaft Schänis
REFRESH-INTERVAL;VALUE=DURATION:PT1H
X-Robots-Tag:noindex
X-PUBLISHED-TTL:PT1H
BEGIN:VTIMEZONE
TZID:UTC
BEGIN:STANDARD
TZOFFSETFROM:+0000
TZOFFSETTO:+0000
TZNAME:UTC
DTSTART:20240101T000000
END:STANDARD
END:VTIMEZONE
BEGIN:VEVENT
DTSTART;TZID=UTC:20250822T180000
DTEND;TZID=UTC:20250822T223000
DTSTAMP:20260420T093955
CREATED:20250116T160628Z
LAST-MODIFIED:20250116T160628Z
UID:1273-1755885600-1755901800@fgschaenis.ch
SUMMARY:Frauenabend mit Mini Golf
DESCRIPTION:Wir spielen eine lustige Partie Mini Golf in Wattwil.\nAnschliessend geniessen wir ein Nachtessen.\nKosten: Minigolf ca. CHF 15.- / Nachtessen wird selber bezahlt\nInfos und Anmeldung: Rina Tel. 055 619 55 33  oder aktuar@fgschaenis.ch bis 15.8.2025
URL:http://fgschaenis.ch/event/frauenabend-mit-mini-golf/
END:VEVENT
END:VCALENDAR