BEGIN:VCALENDAR
VERSION:2.0
PRODID:-//Frauengemeinschaft Schänis - ECPv6.15.20//NONSGML v1.0//EN
CALSCALE:GREGORIAN
METHOD:PUBLISH
X-WR-CALNAME:Frauengemeinschaft Schänis
X-ORIGINAL-URL:http://fgschaenis.ch
X-WR-CALDESC:Veranstaltungen für Frauengemeinschaft Schänis
REFRESH-INTERVAL;VALUE=DURATION:PT1H
X-Robots-Tag:noindex
X-PUBLISHED-TTL:PT1H
BEGIN:VTIMEZONE
TZID:UTC
BEGIN:STANDARD
TZOFFSETFROM:+0000
TZOFFSETTO:+0000
TZNAME:UTC
DTSTART:20240101T000000
END:STANDARD
END:VTIMEZONE
BEGIN:VEVENT
DTSTART;TZID=UTC:20250506T140000
DTEND;TZID=UTC:20250506T160000
DTSTAMP:20260422T115154
CREATED:20250116T144454Z
LAST-MODIFIED:20250116T144454Z
UID:1228-1746540000-1746547200@fgschaenis.ch
SUMMARY:Streickstübli
DESCRIPTION:Stricken mit eigener Wolle für den privaten Gebrauch oder mit unserer Wolle für Bedürftige. \nGemütliches beisammen sein bei Kaffee und Kuchen.\nIm Pfarreisaal Schänis.\nAuskunft: Esther Müller Tel.  055 615 31 30  stricken@fgschaenis.ch
URL:http://fgschaenis.ch/event/streickstuebli-2/
END:VEVENT
BEGIN:VEVENT
DTSTART;TZID=UTC:20250508T190000
DTEND;TZID=UTC:20250508T213000
DTSTAMP:20260422T115154
CREATED:20250116T153305Z
LAST-MODIFIED:20250116T153305Z
UID:1259-1746730800-1746739800@fgschaenis.ch
SUMMARY:Klosterarbeiten
DESCRIPTION:Klosterarbeiten Virtuoses Kunsthandwerk in neuem Gewand\nZum Jubiläum 1200 Kirche Schänis zeigt Sander Kunz seine faszinierenden Klosterarbeiten\, mit Workshopteil und Apéro.\nOrganisiert von der Kirchgemeinde Schänis\nIm Pfarreisaal Schänis
URL:http://fgschaenis.ch/event/klosterarbeiten/
END:VEVENT
BEGIN:VEVENT
DTSTART;TZID=UTC:20250515T190000
DTEND;TZID=UTC:20250515T213000
DTSTAMP:20260422T115154
CREATED:20250116T153432Z
LAST-MODIFIED:20250116T153440Z
UID:1261-1747335600-1747344600@fgschaenis.ch
SUMMARY:Regionale Maiandacht in Rieden
DESCRIPTION:Regionale Maiandacht in der Pfarrkirche Rieden
URL:http://fgschaenis.ch/event/regionale-maiandacht-in-rieden/
END:VEVENT
BEGIN:VEVENT
DTSTART;TZID=UTC:20250516T080000
DTEND;TZID=UTC:20250516T180000
DTSTAMP:20260422T115154
CREATED:20250116T154219Z
LAST-MODIFIED:20250116T154219Z
UID:1263-1747382400-1747418400@fgschaenis.ch
SUMMARY:TAGESAUSFLUG Trauffer Erlebniswelt
DESCRIPTION:Führung durch die Produktion.\n\nFreier Aufenthalt (Shop-Besuch oder Erlebnis-Rundgang) möglich.\nDas Mittagessen kann man in Rosa’s Bistro konsumieren. \nAm Nachmittag noch einen kurzen Aufenthalt in Brienz. \nKosten: Ca-Fahrt\, Kaffee+Gipfeli und Führung ca. CHF 80.- (exkl. Erlebnis-Rundgang CHF 15.-\n und Mittagessen)\nAbfahrt 8:00 Uhr beim Feuerwehrdepot Schänis / Rückkehr ca. 18:00 Uhr\nInfos und Anmeldung: Marlene Laube 079 689 90 31 bis 28.4.2025
URL:http://fgschaenis.ch/event/tagesausflug-trauffer-erlebniswelt/
END:VEVENT
END:VCALENDAR