BEGIN:VCALENDAR
VERSION:2.0
PRODID:-//Frauengemeinschaft Schänis - ECPv6.15.20//NONSGML v1.0//EN
CALSCALE:GREGORIAN
METHOD:PUBLISH
X-ORIGINAL-URL:http://fgschaenis.ch
X-WR-CALDESC:Veranstaltungen für Frauengemeinschaft Schänis
REFRESH-INTERVAL;VALUE=DURATION:PT1H
X-Robots-Tag:noindex
X-PUBLISHED-TTL:PT1H
BEGIN:VTIMEZONE
TZID:UTC
BEGIN:STANDARD
TZOFFSETFROM:+0000
TZOFFSETTO:+0000
TZNAME:UTC
DTSTART:20240101T000000
END:STANDARD
END:VTIMEZONE
BEGIN:VEVENT
DTSTART;TZID=UTC:20250401T140000
DTEND;TZID=UTC:20250401T160000
DTSTAMP:20260422T132757
CREATED:20250116T144046Z
LAST-MODIFIED:20250116T144107Z
UID:1226-1743516000-1743523200@fgschaenis.ch
SUMMARY:Strickstübli
DESCRIPTION:Stricken mit eigener Wolle für den privaten Gebrauch oder mit unserer Wolle für Bedürftige. \nGemütliches beisammen sein bei Kaffee und Kuchen.\nIm Pfarreisaal Schänis.\nAuskunft: Esther Müller Tel.  055 615 31 30  stricken@fgschaenis.ch
URL:http://fgschaenis.ch/event/strickstuebli-52/
END:VEVENT
BEGIN:VEVENT
DTSTART;TZID=UTC:20250403T190000
DTEND;TZID=UTC:20250403T203000
DTSTAMP:20260422T132757
CREATED:20250116T151903Z
LAST-MODIFIED:20250116T151903Z
UID:1253-1743706800-1743712200@fgschaenis.ch
SUMMARY:Fastengottesdienst
DESCRIPTION:Gemeinsam begehen wir einen Fastengottesdienst in der St. Leonhardskapelle Rufi.\n 
URL:http://fgschaenis.ch/event/fastengottesdienst-7/
END:VEVENT
BEGIN:VEVENT
DTSTART;TZID=UTC:20250424T190000
DTEND;TZID=UTC:20250424T220000
DTSTAMP:20260422T132757
CREATED:20250116T152620Z
LAST-MODIFIED:20250116T152620Z
UID:1255-1745521200-1745532000@fgschaenis.ch
SUMMARY:14. Strick-Nacht neu im Kreuzstift Café
DESCRIPTION:Wir treffen uns zum gemütlichen Zusammensein beim Stricken\, Häkeln\, Kaffee trinken\, unterhalten\, …\nNeu im Kreuzstift Café!\nAuskunft Esther Müller Tel. 055 615 31 30
URL:http://fgschaenis.ch/event/14-strick-nacht-neu-im-kreuzstift-cafe/
END:VEVENT
BEGIN:VEVENT
DTSTART;TZID=UTC:20250426T090000
DTEND;TZID=UTC:20250426T160000
DTSTAMP:20260422T132757
CREATED:20250116T152947Z
LAST-MODIFIED:20250116T152947Z
UID:1257-1745658000-1745683200@fgschaenis.ch
SUMMARY:Hausflohmarkt Schänis
DESCRIPTION:Alles muss raus aus dem Keller. \nVerkaufe deine Ware auf deinem eigenen kleinen Flohmarkt oder komm vorbei zum Stöbern und Finden etwas schönes.\nInfos und Anmeldung: Seraina Rickli\, Tel. 079 544 87 50
URL:http://fgschaenis.ch/event/hausflohmarkt-schaenis-2/
END:VEVENT
END:VCALENDAR