BEGIN:VCALENDAR
VERSION:2.0
PRODID:-//Frauengemeinschaft Schänis - ECPv6.15.20//NONSGML v1.0//EN
CALSCALE:GREGORIAN
METHOD:PUBLISH
X-ORIGINAL-URL:http://fgschaenis.ch
X-WR-CALDESC:Veranstaltungen für Frauengemeinschaft Schänis
REFRESH-INTERVAL;VALUE=DURATION:PT1H
X-Robots-Tag:noindex
X-PUBLISHED-TTL:PT1H
BEGIN:VTIMEZONE
TZID:UTC
BEGIN:STANDARD
TZOFFSETFROM:+0000
TZOFFSETTO:+0000
TZNAME:UTC
DTSTART:20240101T000000
END:STANDARD
END:VTIMEZONE
BEGIN:VEVENT
DTSTART;TZID=UTC:20250304T140000
DTEND;TZID=UTC:20250304T160000
DTSTAMP:20260422T151502
CREATED:20250116T143851Z
LAST-MODIFIED:20250116T143851Z
UID:1224-1741096800-1741104000@fgschaenis.ch
SUMMARY:Strickstübli im Pfarreisaal Schänis
DESCRIPTION:Stricken mit eigener Wolle für den privaten Gebrauch oder mit unserer Wolle für Bedürftige. \nGemütliches beisammen sein bei Kaffee und Kuchen.\nAuskunft: Esther Müller Tel.  055 615 31 30  stricken@fgschaenis.ch
URL:http://fgschaenis.ch/event/strickstuebli-im-pfarreisaal-schaenis-10/
END:VEVENT
BEGIN:VEVENT
DTSTART;TZID=UTC:20250307T190000
DTEND;TZID=UTC:20250314T203000
DTSTAMP:20260422T151502
CREATED:20250116T151333Z
LAST-MODIFIED:20250116T151333Z
UID:1248-1741374000-1741984200@fgschaenis.ch
SUMMARY:Gemeinsames Fasten
DESCRIPTION:Gemeinsam Fasten wir eine Woche und treffen uns regelmässig zum Austausch.\nTreffpunkt jeweils 19:00 Uhr in der Oberdorf Schulküche.\nInfos und Anmeldung: Mary Tremp Tel. 079 512 96 82
URL:http://fgschaenis.ch/event/gemeinsames-fasten/
END:VEVENT
BEGIN:VEVENT
DTSTART;TZID=UTC:20250320T190000
DTEND;TZID=UTC:20250320T210000
DTSTAMP:20260422T151502
CREATED:20250116T151734Z
LAST-MODIFIED:20250116T151734Z
UID:1251-1742497200-1742504400@fgschaenis.ch
SUMMARY:Schmuck Workshop
DESCRIPTION:Bei einem Glas Prosecco lernen alle Interessenten\, die gerne kreativ sind\, die Welt des Steinschmucks kennen.\nKurs CHF 55.- inkl. Glas Prosecco und Steinarmband\nIm Pfarreisaal Schänis\nAnmeldung: Andrea 055 615 35 00
URL:http://fgschaenis.ch/event/schmuck-workshop/
END:VEVENT
END:VCALENDAR