BEGIN:VCALENDAR
VERSION:2.0
PRODID:-//Frauengemeinschaft Schänis - ECPv6.15.20//NONSGML v1.0//EN
CALSCALE:GREGORIAN
METHOD:PUBLISH
X-ORIGINAL-URL:http://fgschaenis.ch
X-WR-CALDESC:Veranstaltungen für Frauengemeinschaft Schänis
REFRESH-INTERVAL;VALUE=DURATION:PT1H
X-Robots-Tag:noindex
X-PUBLISHED-TTL:PT1H
BEGIN:VTIMEZONE
TZID:UTC
BEGIN:STANDARD
TZOFFSETFROM:+0000
TZOFFSETTO:+0000
TZNAME:UTC
DTSTART:20240101T000000
END:STANDARD
END:VTIMEZONE
BEGIN:VEVENT
DTSTART;TZID=UTC:20250115T193000
DTEND;TZID=UTC:20250115T230000
DTSTAMP:20260422T182236
CREATED:20231218T102742Z
LAST-MODIFIED:20240112T203747Z
UID:1175-1736969400-1736982000@fgschaenis.ch
SUMMARY:Hauptversammlung FG Schänis
DESCRIPTION:Hauptversammlung der FG Schänis im Pfarreisaal Schänis\ndie Einladung wird versendet.\nNeu Mitglieder sind ganz herzlich Willkommen!
URL:http://fgschaenis.ch/event/hauptversammlung-fg-schaenis-7/
END:VEVENT
END:VCALENDAR