BEGIN:VCALENDAR
VERSION:2.0
PRODID:-//Frauengemeinschaft Schänis - ECPv6.15.20//NONSGML v1.0//EN
CALSCALE:GREGORIAN
METHOD:PUBLISH
X-ORIGINAL-URL:http://fgschaenis.ch
X-WR-CALDESC:Veranstaltungen für Frauengemeinschaft Schänis
REFRESH-INTERVAL;VALUE=DURATION:PT1H
X-Robots-Tag:noindex
X-PUBLISHED-TTL:PT1H
BEGIN:VTIMEZONE
TZID:UTC
BEGIN:STANDARD
TZOFFSETFROM:+0000
TZOFFSETTO:+0000
TZNAME:UTC
DTSTART:20230101T000000
END:STANDARD
END:VTIMEZONE
BEGIN:VEVENT
DTSTART;TZID=UTC:20240903T140000
DTEND;TZID=UTC:20240903T160000
DTSTAMP:20260423T005454
CREATED:20231217T140353Z
LAST-MODIFIED:20240112T203914Z
UID:1112-1725372000-1725379200@fgschaenis.ch
SUMMARY:Strickstübli im Pfarreisaal Schänis
DESCRIPTION:Stricken mit eigener Wolle für den privaten Gebrauch oder mit unserer Wolle für Bedürftige.\nMit Kaffee und Kuchen.\nAuskunft: Esther Müller Tel. 055 615 31 30 oder stricken@fgschaenis.ch
URL:http://fgschaenis.ch/event/strickstuebli-im-pfarreisaal-schaenis-9/
END:VEVENT
BEGIN:VEVENT
DTSTART;TZID=UTC:20240905T190000
DTEND;TZID=UTC:20240905T203000
DTSTAMP:20260423T005454
CREATED:20231218T094622Z
LAST-MODIFIED:20240112T203908Z
UID:1156-1725562800-1725568200@fgschaenis.ch
SUMMARY:Herbstgottesdienst
DESCRIPTION:Herbstgottesdienst in der St. Leonhardskapelle Rufi\nLeitung Marie-Theres Duft
URL:http://fgschaenis.ch/event/herbstgottesdienst-6/
END:VEVENT
BEGIN:VEVENT
DTSTART;TZID=UTC:20240913T131500
DTEND;TZID=UTC:20240913T223000
DTSTAMP:20260423T005454
CREATED:20231218T095138Z
LAST-MODIFIED:20240112T203859Z
UID:1158-1726233300-1726266600@fgschaenis.ch
SUMMARY:Stadtführung Langstrasse Zürich
DESCRIPTION:Der Kreis 4 ist lebendig\, hip und schrill. Auf dieser Führung hören wir amüsante Geschichten aus dem Milieu. \nWir sehen Zürich fernab vom Touristenrummel. Das echte Gesicht Zürichs eben!\nAnschliessend gehen wir noch Nachtessen.\nKosten Führung ca. CHF 38.-\nTreffpunkt Bahnhof Schänis\, Zugbillett bitte selbst organisieren.\nAnmeldung: Andrea Konrad bis 4.9.2024 praesi@fgschaenis.ch
URL:http://fgschaenis.ch/event/stadtfuehrung-langstrasse-zuerich/
END:VEVENT
BEGIN:VEVENT
DTSTART;TZID=UTC:20240917T190000
DTEND;TZID=UTC:20240917T220000
DTSTAMP:20260423T005454
CREATED:20240827T194901Z
LAST-MODIFIED:20240827T194901Z
UID:1212-1726599600-1726610400@fgschaenis.ch
SUMMARY:EINFACH WERTVOLL Referat
DESCRIPTION:EINFACH WERTVOLL mit Melanie Jäger\nReferat 2 Stunden\nFarben\, Stil und Figur – Wie bringe ich das zusammen?\nLerne einfache Regeln\, wie du ein komplettes Outfit zusammenstellst. Wie kombiniere ich aus meiner vorhandenen Garderobe richtig? Proportionen\, Muster\, Kleiderschnitte und Längen zeige ich praktisch an Frauen aus dem Publikum.\nim Rahmen der Kulturwoche Schänis\nEinritt frei!\nNach dem Referat wird ein Apéro offeriert an der Cüpli-Bar und zusätzlich gibt es eine Verlosung verschiedener Preise.\nPlakat Mode 2 \n  \n 
URL:http://fgschaenis.ch/event/einfach-wertvoll-referat/
END:VEVENT
END:VCALENDAR