BEGIN:VCALENDAR
VERSION:2.0
PRODID:-//Frauengemeinschaft Schänis - ECPv6.15.20//NONSGML v1.0//EN
CALSCALE:GREGORIAN
METHOD:PUBLISH
X-WR-CALNAME:Frauengemeinschaft Schänis
X-ORIGINAL-URL:http://fgschaenis.ch
X-WR-CALDESC:Veranstaltungen für Frauengemeinschaft Schänis
REFRESH-INTERVAL;VALUE=DURATION:PT1H
X-Robots-Tag:noindex
X-PUBLISHED-TTL:PT1H
BEGIN:VTIMEZONE
TZID:UTC
BEGIN:STANDARD
TZOFFSETFROM:+0000
TZOFFSETTO:+0000
TZNAME:UTC
DTSTART:20250101T000000
END:STANDARD
END:VTIMEZONE
BEGIN:VEVENT
DTSTART;TZID=UTC:20260911T190000
DTEND;TZID=UTC:20260911T223000
DTSTAMP:20260419T193908
CREATED:20260102T114911Z
LAST-MODIFIED:20260102T120628Z
UID:1358-1789153200-1789165800@fgschaenis.ch
SUMMARY:Workshop Ordnung und Struktur
DESCRIPTION:Helene Schmidt von Flügelleicht www.fluegelleicht-ordnung.com wird uns in Ihre Ordungswelt entführen. \nNachhaltig aufräumen mit einem Ordnungscoach. \nKosten CHF 25\,- \nTreffpunkt im Hofsäli Schänis \nAnmeldung: Rina bis 4.9.2026  Tel. 055 619 55 33    \nTeilnehmerzahl beschränkt.
URL:http://fgschaenis.ch/event/workshop-ordnung-und-struktur/
END:VEVENT
BEGIN:VEVENT
DTSTART;TZID=UTC:20260917T190000
DTEND;TZID=UTC:20260917T210000
DTSTAMP:20260419T193908
CREATED:20260102T115031Z
LAST-MODIFIED:20260102T115031Z
UID:1360-1789671600-1789678800@fgschaenis.ch
SUMMARY:Herbstgottesdienst
DESCRIPTION:Herbstgottesdienst in der St. Leonhardskapelle in Rufi.
URL:http://fgschaenis.ch/event/herbstgottesdienst-8/
END:VEVENT
BEGIN:VEVENT
DTSTART;TZID=UTC:20261006T140000
DTEND;TZID=UTC:20261006T160000
DTSTAMP:20260419T193908
CREATED:20260102T111633Z
LAST-MODIFIED:20260102T111633Z
UID:1329-1791295200-1791302400@fgschaenis.ch
SUMMARY:Strickstübli
DESCRIPTION:Gemeinsam und entspannt Stricken im Pfarreisaal Schänis. \nAuskunft: Esther Müller 079 109 61 86
URL:http://fgschaenis.ch/event/strickstuebli-65/
END:VEVENT
BEGIN:VEVENT
DTSTART;TZID=UTC:20261022T190000
DTEND;TZID=UTC:20261022T220000
DTSTAMP:20260419T193908
CREATED:20260102T115204Z
LAST-MODIFIED:20260102T115240Z
UID:1362-1792695600-1792706400@fgschaenis.ch
SUMMARY:LOTTO
DESCRIPTION:Komm vorbei – Gewinne\, Spass und gute Laune garantiert. \nWir spielen im Kreuzstift Kafi. \nOhne Anmeldung. \nInfos: Margrith
URL:http://fgschaenis.ch/event/lotto/
END:VEVENT
BEGIN:VEVENT
DTSTART;TZID=UTC:20261103T140000
DTEND;TZID=UTC:20261103T160000
DTSTAMP:20260419T193908
CREATED:20260102T111735Z
LAST-MODIFIED:20260102T111735Z
UID:1331-1793714400-1793721600@fgschaenis.ch
SUMMARY:Strickstübli
DESCRIPTION:Gemeinsam und entspannt Stricken im Pfarreisaal Schänis. \nAuskunft: Esther Müller 079 109 61 86
URL:http://fgschaenis.ch/event/strickstuebli-66/
END:VEVENT
BEGIN:VEVENT
DTSTART;TZID=UTC:20261112T190000
DTEND;TZID=UTC:20261112T220000
DTSTAMP:20260419T193908
CREATED:20260102T115433Z
LAST-MODIFIED:20260102T115504Z
UID:1364-1794510000-1794520800@fgschaenis.ch
SUMMARY:17. Strick-Nacht
DESCRIPTION:Wir treffen uns zum gemütlichen Zusammensein beim Stricken\, Häkeln\, Kaffee trinken im Kreuzstift Café. \nInfos: Esther Müller
URL:http://fgschaenis.ch/event/17-strick-nacht/
END:VEVENT
BEGIN:VEVENT
DTSTART;TZID=UTC:20261126T075000
DTEND;TZID=UTC:20261126T200000
DTSTAMP:20260419T193908
CREATED:20260102T115749Z
LAST-MODIFIED:20260102T115749Z
UID:1366-1795679400-1795723200@fgschaenis.ch
SUMMARY:Weihnachtsmarkt Konstanz
DESCRIPTION:Wir verbringen den Tag in Konstanz\, nach Ankunft geniessen wir gemütlich einen Kaffee\, danach schlendern wir durch die Altstadt und besuchen den stimmungsvollen Weihnachtsmarkt direkt am Bodensee. \nAnmeldung: Ulli bis 20\,11\,2026   Tel. 079 262 01 90
URL:http://fgschaenis.ch/event/weihnachtsmarkt-konstanz/
END:VEVENT
BEGIN:VEVENT
DTSTART;TZID=UTC:20261201T140000
DTEND;TZID=UTC:20261201T160000
DTSTAMP:20260419T193908
CREATED:20260102T111838Z
LAST-MODIFIED:20260102T111838Z
UID:1333-1796133600-1796140800@fgschaenis.ch
SUMMARY:Strickstübli
DESCRIPTION:Gemeinsam und entspannt Stricken im Pfarreisaal Schänis. \nAuskunft: Esther Müller 079 109 61 86
URL:http://fgschaenis.ch/event/strickstuebli-67/
END:VEVENT
BEGIN:VEVENT
DTSTART;TZID=UTC:20261203T193000
DTEND;TZID=UTC:20261203T220000
DTSTAMP:20260419T193908
CREATED:20260102T115942Z
LAST-MODIFIED:20260102T115942Z
UID:1368-1796326200-1796335200@fgschaenis.ch
SUMMARY:Adventsfeier
DESCRIPTION:Nach der Andacht lassen wir den Abend gemeinsam ausklingen –  \nbei Schöggeli\, Nüssli und wärmendem Punsch in gemütlicher Runde im Pfarreisaal Schänis.
URL:http://fgschaenis.ch/event/adventsfeier-3/
END:VEVENT
BEGIN:VEVENT
DTSTART;TZID=UTC:20270105T130000
DTEND;TZID=UTC:20270105T170000
DTSTAMP:20260419T193908
CREATED:20260102T121418Z
LAST-MODIFIED:20260102T121418Z
UID:1375-1799154000-1799168400@fgschaenis.ch
SUMMARY:Krippengottesdienst in Amden
DESCRIPTION:Gemeinsam besuchen wir den Krippengottesdienst um 14:00 Uhr in Amden. \nBitte bei Rina melden für Fahrgemeinschaft.
URL:http://fgschaenis.ch/event/krippengottesdienst-in-amden/
END:VEVENT
BEGIN:VEVENT
DTSTART;TZID=UTC:20270105T140000
DTEND;TZID=UTC:20270105T160000
DTSTAMP:20260419T193908
CREATED:20260102T120857Z
LAST-MODIFIED:20260102T121125Z
UID:1373-1799157600-1799164800@fgschaenis.ch
SUMMARY:Strickstübli
DESCRIPTION:Gemeinsam Stricken wir im Pfarreisaal. \nAuskunft: Esther Müller
URL:http://fgschaenis.ch/event/strickstuebli-69/
END:VEVENT
BEGIN:VEVENT
DTSTART;TZID=UTC:20270120T193000
DTEND;TZID=UTC:20270120T230000
DTSTAMP:20260419T193908
CREATED:20260102T120209Z
LAST-MODIFIED:20260102T120209Z
UID:1371-1800473400-1800486000@fgschaenis.ch
SUMMARY:Hauptversammlung FGS
DESCRIPTION:Wir freuen uns auf deine Teilnahme – sie ist für uns Ehrensache. \nDie Einladung folgt. \nNeumitglieder sind herzlich willkommen.
URL:http://fgschaenis.ch/event/hauptversammlung-fgs-2/
END:VEVENT
END:VCALENDAR