BEGIN:VCALENDAR
VERSION:2.0
PRODID:-//Frauengemeinschaft Schänis - ECPv6.15.20//NONSGML v1.0//EN
CALSCALE:GREGORIAN
METHOD:PUBLISH
X-ORIGINAL-URL:http://fgschaenis.ch
X-WR-CALDESC:Veranstaltungen für Frauengemeinschaft Schänis
REFRESH-INTERVAL;VALUE=DURATION:PT1H
X-Robots-Tag:noindex
X-PUBLISHED-TTL:PT1H
BEGIN:VTIMEZONE
TZID:UTC
BEGIN:STANDARD
TZOFFSETFROM:+0000
TZOFFSETTO:+0000
TZNAME:UTC
DTSTART:20240101T000000
END:STANDARD
END:VTIMEZONE
BEGIN:VEVENT
DTSTART;TZID=UTC:20260407T140000
DTEND;TZID=UTC:20260407T160000
DTSTAMP:20260419T210000
CREATED:20260102T110813Z
LAST-MODIFIED:20260102T110813Z
UID:1319-1775570400-1775577600@fgschaenis.ch
SUMMARY:Strickstübli
DESCRIPTION:Gemeinsam stricken macht doppelt Freude. \nDazu gibt es Kaffee\, Kuchen und gemütliches Beisammensein. \nAuskunft: Esther Müller 079 109 61 86
URL:http://fgschaenis.ch/event/strickstuebli-61/
END:VEVENT
BEGIN:VEVENT
DTSTART;TZID=UTC:20260319T190000
DTEND;TZID=UTC:20260319T210000
DTSTAMP:20260419T210000
CREATED:20260102T112840Z
LAST-MODIFIED:20260102T112901Z
UID:1341-1773946800-1773954000@fgschaenis.ch
SUMMARY:Fastengottesdienst
DESCRIPTION:Wir feiern einen Fastengottesdienst in der St. Leonhardskapelle in Rufi.
URL:http://fgschaenis.ch/event/fastenfottesdienst/
END:VEVENT
BEGIN:VEVENT
DTSTART;TZID=UTC:20260303T140000
DTEND;TZID=UTC:20260303T160000
DTSTAMP:20260419T210000
CREATED:20260102T110711Z
LAST-MODIFIED:20260102T110711Z
UID:1317-1772546400-1772553600@fgschaenis.ch
SUMMARY:Strickstübli
DESCRIPTION:Gemeinsam stricken macht doppelt Freude. \nDazu gibt es Kaffee\, Kuchen und gemütliches Beisammensein. \nAuskunft: Esther Müller 079 109 61 86
URL:http://fgschaenis.ch/event/strickstuebli-60/
END:VEVENT
BEGIN:VEVENT
DTSTART;TZID=UTC:20260227T160000
DTEND;TZID=UTC:20260227T220000
DTSTAMP:20260419T210000
CREATED:20260102T112647Z
LAST-MODIFIED:20260102T113327Z
UID:1339-1772208000-1772229600@fgschaenis.ch
SUMMARY:Schneeschuhwandern mit Käsefondue
DESCRIPTION:Wir wandern mit eigenen Schneeschuhen durch die idyllische Winterlandschaft im Arvenüel und geniessen anschliessend ein feines Käsefondue im Monte Mio.  \nWer nur zum Fondue kommen möchte\, ist herzlich willkommen\, Treffpunkt 19:00 Uhr im Restaurant Monte Mio. \nKosten Fondue ca. CHF 25.-  \nTreffpunkt auf dem Rathausplatz Schänis um 16:00 Uhr \nAnmeldung: Ulli bis 20\,02\,2026   Tel. 079 262 01 90 \n 
URL:http://fgschaenis.ch/event/schneeschuhwandern-mit-kaesefondue/
END:VEVENT
BEGIN:VEVENT
DTSTART;TZID=UTC:20260219T190000
DTEND;TZID=UTC:20260219T220000
DTSTAMP:20260419T210000
CREATED:20260102T112252Z
LAST-MODIFIED:20260102T112252Z
UID:1337-1771527600-1771538400@fgschaenis.ch
SUMMARY:Spiel & Spass
DESCRIPTION:Wir verbringen einen lustigen Spiele-Abend mit diversen Gesellschaftsspielen. \nGerne darfst du auch ein\, zwei\, … Spiele mitnehmen. \nKeine Anmeldung nötig\, komme einfach vorbei. \nInfos: Rina
URL:http://fgschaenis.ch/event/spiel-spass/
END:VEVENT
BEGIN:VEVENT
DTSTART;TZID=UTC:20260203T140000
DTEND;TZID=UTC:20260203T160000
DTSTAMP:20260419T210000
CREATED:20260102T110618Z
LAST-MODIFIED:20260102T110618Z
UID:1315-1770127200-1770134400@fgschaenis.ch
SUMMARY:Strickstübli
DESCRIPTION:Gemeinsam stricken macht doppelt Freude. \nDazu gibt es Kaffee\, Kuchen und gemütliches Beisammensein. \nAuskunft: Esther Müller 079 109 61 86
URL:http://fgschaenis.ch/event/strickstuebli-59/
END:VEVENT
BEGIN:VEVENT
DTSTART;TZID=UTC:20260121T193000
DTEND;TZID=UTC:20260121T230000
DTSTAMP:20260419T210000
CREATED:20250116T192536Z
LAST-MODIFIED:20250116T192536Z
UID:1296-1769023800-1769036400@fgschaenis.ch
SUMMARY:Hauptversammlung FGS
DESCRIPTION:Hauptversammlung Frauengemeinschaft Schänis im Pfarreisaal Schänis\nNeumitglieder sind herzlich willkommen!
URL:http://fgschaenis.ch/event/hauptversammlung-fgs/
END:VEVENT
BEGIN:VEVENT
DTSTART;TZID=UTC:20260106T140000
DTEND;TZID=UTC:20260106T160000
DTSTAMP:20260419T210000
CREATED:20260102T110320Z
LAST-MODIFIED:20260102T110320Z
UID:1313-1767708000-1767715200@fgschaenis.ch
SUMMARY:Strickstübli
DESCRIPTION:Gemeinsam stricken macht doppelt Freude. \nDazu gibt es Kaffee\, Kuchen und gemütliches Beisammensein. \nAuskunft: Esther Müller 079 109 61 86 \n 
URL:http://fgschaenis.ch/event/strickstuebli-58/
END:VEVENT
BEGIN:VEVENT
DTSTART;TZID=UTC:20260106T140000
DTEND;TZID=UTC:20260106T160000
DTSTAMP:20260419T210000
CREATED:20250116T185700Z
LAST-MODIFIED:20250116T185700Z
UID:1292-1767708000-1767715200@fgschaenis.ch
SUMMARY:Krippengottesdienst Amden
DESCRIPTION:Gemeinsam besuchen wir den Krippengottesdienst um 14:00 Uhr in der Kirche Amden.\nFür Fahrgemeinschaft bei Rina melden.\nRina Tel. 055 619 55 33\n 
URL:http://fgschaenis.ch/event/krippengottesdienst-amden-4/
END:VEVENT
BEGIN:VEVENT
DTSTART;TZID=UTC:20260106T140000
DTEND;TZID=UTC:20260106T140000
DTSTAMP:20260419T210000
CREATED:20250116T145913Z
LAST-MODIFIED:20250116T145913Z
UID:1240-1767708000-1767708000@fgschaenis.ch
SUMMARY:Strickstübli
DESCRIPTION:Stricken mit eigener Wolle für den privaten Gebrauch oder mit unserer Wolle für Bedürftige. \nGemütliches beisammen sein bei Kaffee und Kuchen.\nIm Pfarreisaal Schänis.\nAuskunft: Esther Müller Tel.  055 615 31 30  stricken@fgschaenis.ch
URL:http://fgschaenis.ch/event/strickstuebli-57/
END:VEVENT
BEGIN:VEVENT
DTSTART;TZID=UTC:20251204T190000
DTEND;TZID=UTC:20251204T213000
DTSTAMP:20260419T210000
CREATED:20250116T185204Z
LAST-MODIFIED:20250116T185323Z
UID:1290-1764874800-1764883800@fgschaenis.ch
SUMMARY:Adventsfeier
DESCRIPTION:Advensfeier im Pfarreisaal Schänis \nmit anschliessendem gemütliches Beisammensein mit Nüssli Punsch.
URL:http://fgschaenis.ch/event/adventsfeier-2/
END:VEVENT
BEGIN:VEVENT
DTSTART;TZID=UTC:20251202T140000
DTEND;TZID=UTC:20251202T160000
DTSTAMP:20260419T210000
CREATED:20250116T145800Z
LAST-MODIFIED:20250116T145800Z
UID:1238-1764684000-1764691200@fgschaenis.ch
SUMMARY:Strickstübli
DESCRIPTION:Stricken mit eigener Wolle für den privaten Gebrauch oder mit unserer Wolle für Bedürftige. \nGemütliches beisammen sein bei Kaffee und Kuchen.\nIm Pfarreisaal Schänis.\nAuskunft: Esther Müller Tel.  055 615 31 30  stricken@fgschaenis.ch
URL:http://fgschaenis.ch/event/strickstuebli-56/
END:VEVENT
BEGIN:VEVENT
DTSTART;TZID=UTC:20251122T090000
DTEND;TZID=UTC:20251122T113000
DTSTAMP:20260419T210000
CREATED:20250116T164011Z
LAST-MODIFIED:20250116T184002Z
UID:1288-1763802000-1763811000@fgschaenis.ch
SUMMARY:Zmorge im Gartencafé
DESCRIPTION:Gemeinsam geniessen wir ein feines Zmorgen mit selbstgebackenem Brot\, feinem Kaffee\, … im Gartencafé Kaltbrunn.\nJeder bezahlt selber seinen Zmorgen.\nTreffpunkt: Rickli Parkplatz 9:00 Uhr\nInfos und Anmeldung: Ursi bis 15.11.2025
URL:http://fgschaenis.ch/event/zmorge-im-gartencafe/
END:VEVENT
BEGIN:VEVENT
DTSTART;VALUE=DATE:20251116
DTEND;VALUE=DATE:20251117
DTSTAMP:20260419T210000
CREATED:20250116T163610Z
LAST-MODIFIED:20250116T163610Z
UID:1286-1763251200-1763337599@fgschaenis.ch
SUMMARY:Begegnungstag
DESCRIPTION:Begegnungstag für Verwitwete und Alleinlebende.\nOrganisiert von der FG Gommiswald.
URL:http://fgschaenis.ch/event/begegnungstag-3/
END:VEVENT
BEGIN:VEVENT
DTSTART;TZID=UTC:20251113T190000
DTEND;TZID=UTC:20251113T220000
DTSTAMP:20260419T210000
CREATED:20250116T163435Z
LAST-MODIFIED:20250116T163435Z
UID:1284-1763060400-1763071200@fgschaenis.ch
SUMMARY:15. Strick-Nacht
DESCRIPTION:Wir treffen uns zum gemütlichen Zusammensein beim Stricken\, Häkeln\, Kaffee trinken\, unterhalten\, …\nIm Kreuzstift Café!\nAuskunft Esther Müller Tel. 055 615 31 30
URL:http://fgschaenis.ch/event/15-strick-nacht/
END:VEVENT
BEGIN:VEVENT
DTSTART;TZID=UTC:20251104T140000
DTEND;TZID=UTC:20251104T160000
DTSTAMP:20260419T210000
CREATED:20250116T145323Z
LAST-MODIFIED:20250116T145333Z
UID:1236-1762264800-1762272000@fgschaenis.ch
SUMMARY:Strickstübli
DESCRIPTION:Stricken mit eigener Wolle für den privaten Gebrauch oder mit unserer Wolle für Bedürftige. \nGemütliches beisammen sein bei Kaffee und Kuchen.\nIm Pfarreisaal Schänis.\nAuskunft: Esther Müller Tel.  055 615 31 30  stricken@fgschaenis.ch
URL:http://fgschaenis.ch/event/strickstuebli-55/
END:VEVENT
BEGIN:VEVENT
DTSTART;TZID=UTC:20251023T190000
DTEND;TZID=UTC:20251023T220000
DTSTAMP:20260419T210000
CREATED:20250116T150701Z
LAST-MODIFIED:20250919T091530Z
UID:1244-1761246000-1761256800@fgschaenis.ch
SUMMARY:Spiel und Spass!
DESCRIPTION:Wir treffen uns um verschiedene Gesellschaftsspiele zu spielen.\nOhne Anmeldung\, komme einfach vorbei!\nGerne dürfen auch eigene Spiele mitgebracht werden.\nIm Pfarreisaal Schänis\nInfos: Ursi
URL:http://fgschaenis.ch/event/spiel-und-spass-3/
END:VEVENT
BEGIN:VEVENT
DTSTART;TZID=UTC:20251016T193000
DTEND;TZID=UTC:20251016T220000
DTSTAMP:20260419T210000
CREATED:20250116T163214Z
LAST-MODIFIED:20250116T163214Z
UID:1281-1760643000-1760652000@fgschaenis.ch
SUMMARY:FGS Frauen Treff im Lokal
DESCRIPTION:Für alle Frauen\, die sich etwas unterhalten möchten\, bei einem feinen Drink.\nOhne Anmeldung\, Infos: Ursi
URL:http://fgschaenis.ch/event/fgs-frauen-treff-im-lokal/
END:VEVENT
BEGIN:VEVENT
DTSTART;TZID=UTC:20251007T140000
DTEND;TZID=UTC:20251007T160000
DTSTAMP:20260419T210000
CREATED:20250116T144914Z
LAST-MODIFIED:20250116T145211Z
UID:1234-1759845600-1759852800@fgschaenis.ch
SUMMARY:Strickstübli
DESCRIPTION:Stricken mit eigener Wolle für den privaten Gebrauch oder mit unserer Wolle für Bedürftige. \nGemütliches beisammen sein bei Kaffee und Kuchen.\nIm Pfarreisaal Schänis.\nAuskunft: Esther Müller Tel.  055 615 31 30  stricken@fgschaenis.ch
URL:http://fgschaenis.ch/event/strickstuebli-54/
END:VEVENT
BEGIN:VEVENT
DTSTART;TZID=UTC:20250926T141500
DTEND;TZID=UTC:20250926T210000
DTSTAMP:20260419T210000
CREATED:20250116T161740Z
LAST-MODIFIED:20250116T162950Z
UID:1279-1758896100-1758920400@fgschaenis.ch
SUMMARY:Stadtführung Glarus
DESCRIPTION:Erlebe die kleinste Hauptstadt bei einer unvergesslichen Stadtführung \nmit „kulturaktivGLARUS“\nNach der Führung geht es noch zu einem feinen Nachtessen.\nZugbillett bitte selber organisieren.\nKosten ca. CHF 20.-\nAnmeldung: Ursi Tel. 079 382 69 90 bis 19.9.2025\n 
URL:http://fgschaenis.ch/event/stadtfuehrung-glarus/
END:VEVENT
BEGIN:VEVENT
DTSTART;TZID=UTC:20250917T193000
DTEND;TZID=UTC:20250917T210000
DTSTAMP:20260419T210000
CREATED:20250116T161201Z
LAST-MODIFIED:20250116T191730Z
UID:1277-1758137400-1758142800@fgschaenis.ch
SUMMARY:Sing mit!
DESCRIPTION:Wir singen gemeinsam neue und alte Lieder mit Theres Egli\nKosten: es steht ein Kässeli bereit\nIm Pfarreisaal Schänis\nAnmeldung: Andrea 055 615 35 00 bis 9.9.25
URL:http://fgschaenis.ch/event/sing-mit/
END:VEVENT
BEGIN:VEVENT
DTSTART;TZID=UTC:20250911T190000
DTEND;TZID=UTC:20250911T210000
DTSTAMP:20260419T210000
CREATED:20250116T160854Z
LAST-MODIFIED:20250116T160913Z
UID:1275-1757617200-1757624400@fgschaenis.ch
SUMMARY:Herbstgottesdienst
DESCRIPTION:Wir feiern einen Herbstgottesdienst in der St. Leonhardskapelle Rufi.
URL:http://fgschaenis.ch/event/herbstgottesdienst-7/
END:VEVENT
BEGIN:VEVENT
DTSTART;TZID=UTC:20250902T140000
DTEND;TZID=UTC:20250902T160000
DTSTAMP:20260419T210000
CREATED:20250116T144804Z
LAST-MODIFIED:20250116T144825Z
UID:1232-1756821600-1756828800@fgschaenis.ch
SUMMARY:Strickstübli
DESCRIPTION:Stricken mit eigener Wolle für den privaten Gebrauch oder mit unserer Wolle für Bedürftige. \nGemütliches beisammen sein bei Kaffee und Kuchen.\nIm Pfarreisaal Schänis.\nAuskunft: Esther Müller Tel.  055 615 31 30  stricken@fgschaenis.ch
URL:http://fgschaenis.ch/event/strickstuebli-53/
END:VEVENT
BEGIN:VEVENT
DTSTART;TZID=UTC:20250822T180000
DTEND;TZID=UTC:20250822T223000
DTSTAMP:20260419T210000
CREATED:20250116T160628Z
LAST-MODIFIED:20250116T160628Z
UID:1273-1755885600-1755901800@fgschaenis.ch
SUMMARY:Frauenabend mit Mini Golf
DESCRIPTION:Wir spielen eine lustige Partie Mini Golf in Wattwil.\nAnschliessend geniessen wir ein Nachtessen.\nKosten: Minigolf ca. CHF 15.- / Nachtessen wird selber bezahlt\nInfos und Anmeldung: Rina Tel. 055 619 55 33  oder aktuar@fgschaenis.ch bis 15.8.2025
URL:http://fgschaenis.ch/event/frauenabend-mit-mini-golf/
END:VEVENT
BEGIN:VEVENT
DTSTART;TZID=UTC:20250620T173000
DTEND;TZID=UTC:20250620T220000
DTSTAMP:20260419T210000
CREATED:20250116T155828Z
LAST-MODIFIED:20250116T155828Z
UID:1268-1750440600-1750456800@fgschaenis.ch
SUMMARY:Kajak und Kanadier Ausfahrt ab Schmerikon
DESCRIPTION:Wir paddeln über Oberen Zürich See mit Kajak und Kanadier\, nachher Grillieren wir am See.\nKosten ca. CHF 25.- \nAnmeldung: Ursi Tel. 079 382 69 90 bis 13.6.2025\n 
URL:http://fgschaenis.ch/event/kajak-und-kanadier-ausfahrt-ab-schmerikon/
END:VEVENT
BEGIN:VEVENT
DTSTART;TZID=UTC:20250612T190000
DTEND;TZID=UTC:20250612T213000
DTSTAMP:20260419T210000
CREATED:20250116T155355Z
LAST-MODIFIED:20250116T160107Z
UID:1266-1749754800-1749763800@fgschaenis.ch
SUMMARY:Sommergottesdienst
DESCRIPTION:Sommergottesdienst beim Erlenweiher \noder bei unsicherem Wetter in der Leonhardskapelle Rufi.
URL:http://fgschaenis.ch/event/sommergottesdienst-7/
END:VEVENT
BEGIN:VEVENT
DTSTART;TZID=UTC:20250603T140000
DTEND;TZID=UTC:20250603T160000
DTSTAMP:20260419T210000
CREATED:20250116T144622Z
LAST-MODIFIED:20250116T191312Z
UID:1230-1748959200-1748966400@fgschaenis.ch
SUMMARY:Strickstübli
DESCRIPTION:Stricken mit eigener Wolle für den privaten Gebrauch oder mit unserer Wolle für Bedürftige. \nGemütliches beisammen sein bei Kaffee und Kuchen.\nIm Pfarreisaal Schänis.\nAuskunft: Esther Müller Tel.  055 615 31 30  stricken@fgschaenis.ch
URL:http://fgschaenis.ch/event/streickstuebli-3/
END:VEVENT
BEGIN:VEVENT
DTSTART;TZID=UTC:20250516T080000
DTEND;TZID=UTC:20250516T180000
DTSTAMP:20260419T210000
CREATED:20250116T154219Z
LAST-MODIFIED:20250116T154219Z
UID:1263-1747382400-1747418400@fgschaenis.ch
SUMMARY:TAGESAUSFLUG Trauffer Erlebniswelt
DESCRIPTION:Führung durch die Produktion.\n\nFreier Aufenthalt (Shop-Besuch oder Erlebnis-Rundgang) möglich.\nDas Mittagessen kann man in Rosa’s Bistro konsumieren. \nAm Nachmittag noch einen kurzen Aufenthalt in Brienz. \nKosten: Ca-Fahrt\, Kaffee+Gipfeli und Führung ca. CHF 80.- (exkl. Erlebnis-Rundgang CHF 15.-\n und Mittagessen)\nAbfahrt 8:00 Uhr beim Feuerwehrdepot Schänis / Rückkehr ca. 18:00 Uhr\nInfos und Anmeldung: Marlene Laube 079 689 90 31 bis 28.4.2025
URL:http://fgschaenis.ch/event/tagesausflug-trauffer-erlebniswelt/
END:VEVENT
BEGIN:VEVENT
DTSTART;TZID=UTC:20250515T190000
DTEND;TZID=UTC:20250515T213000
DTSTAMP:20260419T210000
CREATED:20250116T153432Z
LAST-MODIFIED:20250116T153440Z
UID:1261-1747335600-1747344600@fgschaenis.ch
SUMMARY:Regionale Maiandacht in Rieden
DESCRIPTION:Regionale Maiandacht in der Pfarrkirche Rieden
URL:http://fgschaenis.ch/event/regionale-maiandacht-in-rieden/
END:VEVENT
BEGIN:VEVENT
DTSTART;TZID=UTC:20250508T190000
DTEND;TZID=UTC:20250508T213000
DTSTAMP:20260419T210000
CREATED:20250116T153305Z
LAST-MODIFIED:20250116T153305Z
UID:1259-1746730800-1746739800@fgschaenis.ch
SUMMARY:Klosterarbeiten
DESCRIPTION:Klosterarbeiten Virtuoses Kunsthandwerk in neuem Gewand\nZum Jubiläum 1200 Kirche Schänis zeigt Sander Kunz seine faszinierenden Klosterarbeiten\, mit Workshopteil und Apéro.\nOrganisiert von der Kirchgemeinde Schänis\nIm Pfarreisaal Schänis
URL:http://fgschaenis.ch/event/klosterarbeiten/
END:VEVENT
END:VCALENDAR